{
 "currentVersion": 11.3,
 "serviceDescription": "DTM_lv_12",
 "name": "DTM_lv_12",
 "description": "",
 "extent": {
  "xmin": 480000,
  "ymin": 6260000,
  "xmax": 520000,
  "ymax": 6309000,
  "spatialReference": {
   "wkid": 25832,
   "latestWkid": 25832
  }
 },
 "initialExtent": {
  "xmin": 480000,
  "ymin": 6260000,
  "xmax": 520000,
  "ymax": 6309000,
  "spatialReference": {
   "wkid": 25832,
   "latestWkid": 25832
  }
 },
 "fullExtent": {
  "xmin": 480000,
  "ymin": 6260000,
  "xmax": 520000,
  "ymax": 6309000,
  "spatialReference": {
   "wkid": 25832,
   "latestWkid": 25832
  }
 },
 "sortableFields": "MinPS,MaxPS,LowPS,HighPS,CenterX,CenterY,ZOrder,Shape_Length,Shape_Area",
 "bandCount": 1,
 "pixelType": "F32",
 "minValues": [
  -11.470831871032715
 ],
 "maxValues": [
  75.3459243774414
 ],
 "meanValues": [
  13.216301166420953
 ],
 "stdvValues": [
  13.30671146425182
 ],
 "hasMultidimensions": false,
 "pixelSizeX": 0.4,
 "pixelSizeY": 0.4,
 "meanPixelSize": 0.4,
 "datasetFormat": "AMD",
 "uncompressedSize": 49000000000,
 "blockWidth": 2048,
 "blockHeight": 256,
 "compressionType": "None",
 "bandNames": [
  "Band_1"
 ],
 "allowCopy": true,
 "allowAnalysis": true,
 "itemAccess": false,
 "inspectionCapabilities": "",
 "minPixelSize": 3.2,
 "maxPixelSize": 1638.4,
 "copyrightText": "",
 "serviceDataType": "esriImageServiceDataTypeGeneric",
 "serviceSourceType": "esriImageServiceSourceTypeMosaicDataset",
 "objectIdField": "OBJECTID",
 "fields": [
  {
   "name": "OBJECTID",
   "type": "esriFieldTypeOID",
   "alias": "OBJECTID",
   "domain": null
  },
  {
   "name": "Shape",
   "type": "esriFieldTypeGeometry",
   "alias": "Shape",
   "domain": null
  },
  {
   "name": "Name",
   "type": "esriFieldTypeString",
   "alias": "Name",
   "domain": null,
   "length": 200
  },
  {
   "name": "MinPS",
   "type": "esriFieldTypeDouble",
   "alias": "MinPS",
   "domain": null
  },
  {
   "name": "MaxPS",
   "type": "esriFieldTypeDouble",
   "alias": "MaxPS",
   "domain": null
  },
  {
   "name": "LowPS",
   "type": "esriFieldTypeDouble",
   "alias": "LowPS",
   "domain": null
  },
  {
   "name": "HighPS",
   "type": "esriFieldTypeDouble",
   "alias": "HighPS",
   "domain": null
  },
  {
   "name": "Category",
   "type": "esriFieldTypeInteger",
   "alias": "Category",
   "domain": {
    "type": "codedValue",
    "name": "MosaicCatalogItemCategoryDomain",
    "description": "Catalog item categories.",
    "codedValues": [
     {
      "name": "Unknown",
      "code": 0
     },
     {
      "name": "Primary",
      "code": 1
     },
     {
      "name": "Overview",
      "code": 2
     },
     {
      "name": "Unprocessed Overview",
      "code": 3
     },
     {
      "name": "Partial Overview",
      "code": 4
     },
     {
      "name": "Inactive",
      "code": 5
     },
     {
      "name": "Uploaded",
      "code": 253
     },
     {
      "name": "Incomplete",
      "code": 254
     },
     {
      "name": "Custom",
      "code": 255
     }
    ],
    "mergePolicy": "esriMPTDefaultValue",
    "splitPolicy": "esriSPTDefaultValue"
   }
  },
  {
   "name": "Tag",
   "type": "esriFieldTypeString",
   "alias": "Tag",
   "domain": null,
   "length": 100
  },
  {
   "name": "GroupName",
   "type": "esriFieldTypeString",
   "alias": "GroupName",
   "domain": null,
   "length": 100
  },
  {
   "name": "ProductName",
   "type": "esriFieldTypeString",
   "alias": "ProductName",
   "domain": null,
   "length": 100
  },
  {
   "name": "CenterX",
   "type": "esriFieldTypeDouble",
   "alias": "CenterX",
   "domain": null
  },
  {
   "name": "CenterY",
   "type": "esriFieldTypeDouble",
   "alias": "CenterY",
   "domain": null
  },
  {
   "name": "ZOrder",
   "type": "esriFieldTypeInteger",
   "alias": "ZOrder",
   "domain": null
  },
  {
   "name": "Shape_Length",
   "type": "esriFieldTypeDouble",
   "alias": "Shape_Length",
   "domain": null
  },
  {
   "name": "Shape_Area",
   "type": "esriFieldTypeDouble",
   "alias": "Shape_Area",
   "domain": null
  }
 ],
 "capabilities": "Image,Metadata,Mensuration,Catalog",
 "defaultMosaicMethod": "Northwest",
 "allowedMosaicMethods": "NorthWest,Center,LockRaster,ByAttribute,Nadir,Viewpoint,Seamline,None",
 "sortField": "",
 "sortValue": null,
 "sortAscending": true,
 "mosaicOperator": "First",
 "maxDownloadSizeLimit": 2048,
 "defaultCompressionQuality": 75,
 "defaultResamplingMethod": "Bilinear",
 "maxImageHeight": 4100,
 "maxImageWidth": 15000,
 "maxRecordCount": 1000,
 "maxDownloadImageCount": 20,
 "maxMosaicImageCount": 5000,
 "singleFusedMapCache": true,
 "tileInfo": {
  "rows": 256,
  "cols": 256,
  "dpi": 96,
  "format": "LERC",
  "compressionQuality": 0,
  "lercError": 0.05,
  "origin": {
   "x": 120000,
   "y": 6500000
  },
  "spatialReference": {
   "wkid": 25832,
   "latestWkid": 25832
  },
  "lods": [
   {
    "level": 0,
    "resolution": 1638.4,
    "scale": 6192365.568
   },
   {
    "level": 1,
    "resolution": 819.2,
    "scale": 3096182.784
   },
   {
    "level": 2,
    "resolution": 409.6,
    "scale": 1548091.392
   },
   {
    "level": 3,
    "resolution": 204.8,
    "scale": 774045.696
   },
   {
    "level": 4,
    "resolution": 102.4,
    "scale": 387022.848
   },
   {
    "level": 5,
    "resolution": 51.2,
    "scale": 193511.424
   },
   {
    "level": 6,
    "resolution": 25.6,
    "scale": 96755.712
   },
   {
    "level": 7,
    "resolution": 12.8,
    "scale": 48377.856
   },
   {
    "level": 8,
    "resolution": 6.4,
    "scale": 24188.928
   },
   {
    "level": 9,
    "resolution": 3.2,
    "scale": 12094.464
   },
   {
    "level": 10,
    "resolution": 1.6,
    "scale": 6047.232
   },
   {
    "level": 11,
    "resolution": 0.8,
    "scale": 3023.616
   },
   {
    "level": 12,
    "resolution": 0.4,
    "scale": 1511.808
   },
   {
    "level": 13,
    "resolution": 0.2,
    "scale": 755.904
   },
   {
    "level": 14,
    "resolution": 0.1,
    "scale": 377.952
   },
   {
    "level": 15,
    "resolution": 0.05,
    "scale": 188.976
   },
   {
    "level": 16,
    "resolution": 0.025,
    "scale": 94.488
   },
   {
    "level": 17,
    "resolution": 0.0125,
    "scale": 47.244
   }
  ]
 },
 "storageInfo": {
  "storageFormat": "esriMapCacheStorageModeCompactV2",
  "packetSize": 128
 },
 "cacheType": "Elevation",
 "allowRasterFunction": true,
 "rasterFunctionInfos": [
  {
   "name": "None",
   "description": "Make a Raster or Raster Dataset into a Function Raster Dataset.",
   "help": ""
  },
  {
   "name": "Raster Function Template - Hillshade",
   "description": "Raster Function Template - Hillshade",
   "help": ""
  }
 ],
 "rasterTypeInfos": [
  {
   "name": "Raster Dataset",
   "description": "Supports all ArcGIS Raster Datasets",
   "help": ""
  }
 ],
 "mensurationCapabilities": "Basic",
 "hasHistograms": true,
 "hasColormap": false,
 "hasRasterAttributeTable": false,
 "minScale": 6192365.568,
 "maxScale": 12094.464,
 "exportTilesAllowed": false,
 "supportsStatistics": true,
 "supportsAdvancedQueries": true,
 "editFieldsInfo": null,
 "ownershipBasedAccessControlForRasters": null,
 "allowComputeTiePoints": false,
 "useStandardizedQueries": true,
 "advancedQueryCapabilities": {
  "useStandardizedQueries": true,
  "supportsStatistics": true,
  "supportsOrderBy": true,
  "supportsDistinct": true,
  "supportsPagination": true
 },
 "spatialReference": {
  "wkid": 25832,
  "latestWkid": 25832
 }
}
